BEGIN:VCALENDAR
VERSION:2.0
PRODID:-//Arcades - ECPv5.9.1//NONSGML v1.0//EN
CALSCALE:GREGORIAN
METHOD:PUBLISH
X-WR-CALNAME:Arcades
X-ORIGINAL-URL:https://arcadeskorfbalsport.nl
X-WR-CALDESC:Evenementen voor Arcades
BEGIN:VTIMEZONE
TZID:UTC
BEGIN:STANDARD
TZOFFSETFROM:+0000
TZOFFSETTO:+0000
TZNAME:UTC
DTSTART:20250101T000000
END:STANDARD
END:VTIMEZONE
BEGIN:VEVENT
DTSTART;VALUE=DATE:20250823
DTEND;VALUE=DATE:20250824
DTSTAMP:20260425T121351
CREATED:20250529T115802Z
LAST-MODIFIED:20250529T115802Z
UID:4292-1755907200-1755993599@arcadeskorfbalsport.nl
SUMMARY:Regio toernooi DAKOS
DESCRIPTION:
URL:https://arcadeskorfbalsport.nl/event/regio-toernooi-dakos/
LOCATION:Someren-Heide
END:VEVENT
END:VCALENDAR