BEGIN:VCALENDAR
VERSION:2.0
PRODID:-//Arcades - ECPv5.9.1//NONSGML v1.0//EN
CALSCALE:GREGORIAN
METHOD:PUBLISH
X-WR-CALNAME:Arcades
X-ORIGINAL-URL:https://arcadeskorfbalsport.nl
X-WR-CALDESC:Evenementen voor Arcades
BEGIN:VTIMEZONE
TZID:UTC
BEGIN:STANDARD
TZOFFSETFROM:+0000
TZOFFSETTO:+0000
TZNAME:UTC
DTSTART:20250101T000000
END:STANDARD
END:VTIMEZONE
BEGIN:VEVENT
DTSTART;VALUE=DATE:20251026
DTEND;VALUE=DATE:20251027
DTSTAMP:20260425T133723
CREATED:20251003T123744Z
LAST-MODIFIED:20251003T123744Z
UID:4489-1761436800-1761523199@arcadeskorfbalsport.nl
SUMMARY:Oktoberfest Liessel
DESCRIPTION:
URL:https://arcadeskorfbalsport.nl/event/oktoberfest-liessel/
END:VEVENT
END:VCALENDAR