BEGIN:VCALENDAR
VERSION:2.0
PRODID:-//Arcades - ECPv5.9.1//NONSGML v1.0//EN
CALSCALE:GREGORIAN
METHOD:PUBLISH
X-WR-CALNAME:Arcades
X-ORIGINAL-URL:https://arcadeskorfbalsport.nl
X-WR-CALDESC:Evenementen voor Arcades
BEGIN:VTIMEZONE
TZID:UTC
BEGIN:STANDARD
TZOFFSETFROM:+0000
TZOFFSETTO:+0000
TZNAME:UTC
DTSTART:20260101T000000
END:STANDARD
END:VTIMEZONE
BEGIN:VEVENT
DTSTART;VALUE=DATE:20260102
DTEND;VALUE=DATE:20260103
DTSTAMP:20260425T202444
CREATED:20251003T123952Z
LAST-MODIFIED:20251003T123952Z
UID:4495-1767312000-1767398399@arcadeskorfbalsport.nl
SUMMARY:Nieuwjaarsactiviteit Senioren
DESCRIPTION:
URL:https://arcadeskorfbalsport.nl/event/nieuwjaarsactiviteit-senioren-2/
END:VEVENT
END:VCALENDAR