BEGIN:VCALENDAR
VERSION:2.0
PRODID:-//Arcades - ECPv5.9.1//NONSGML v1.0//EN
CALSCALE:GREGORIAN
METHOD:PUBLISH
X-WR-CALNAME:Arcades
X-ORIGINAL-URL:https://arcadeskorfbalsport.nl
X-WR-CALDESC:Evenementen voor Arcades
BEGIN:VTIMEZONE
TZID:UTC
BEGIN:STANDARD
TZOFFSETFROM:+0000
TZOFFSETTO:+0000
TZNAME:UTC
DTSTART:20250101T000000
END:STANDARD
END:VTIMEZONE
BEGIN:VEVENT
DTSTART;VALUE=DATE:20250627
DTEND;VALUE=DATE:20250630
DTSTAMP:20260425T121516
CREATED:20241107T183944Z
LAST-MODIFIED:20241107T183944Z
UID:3999-1750982400-1751241599@arcadeskorfbalsport.nl
SUMMARY:Korfbalkamp
DESCRIPTION:
URL:https://arcadeskorfbalsport.nl/event/korfbalkamp-5/
END:VEVENT
END:VCALENDAR