BEGIN:VCALENDAR
VERSION:2.0
PRODID:-//Arcades - ECPv5.9.1//NONSGML v1.0//EN
CALSCALE:GREGORIAN
METHOD:PUBLISH
X-WR-CALNAME:Arcades
X-ORIGINAL-URL:https://arcadeskorfbalsport.nl
X-WR-CALDESC:Evenementen voor Arcades
BEGIN:VTIMEZONE
TZID:UTC
BEGIN:STANDARD
TZOFFSETFROM:+0000
TZOFFSETTO:+0000
TZNAME:UTC
DTSTART:20250101T000000
END:STANDARD
END:VTIMEZONE
BEGIN:VEVENT
DTSTART;TZID=UTC:20250227T180000
DTEND;TZID=UTC:20250227T190000
DTSTAMP:20260425T120811
CREATED:20241107T183734Z
LAST-MODIFIED:20241107T183734Z
UID:3993-1740679200-1740682800@arcadeskorfbalsport.nl
SUMMARY:Carnavalstraining
DESCRIPTION:
URL:https://arcadeskorfbalsport.nl/event/carnavalstraining/
LOCATION:Liessel + Neerkant
END:VEVENT
END:VCALENDAR